BEGIN:VCALENDAR
VERSION:2.0
PRODID:-//ANCHOR VALLEY WINE - ECPv6.15.20//NONSGML v1.0//EN
CALSCALE:GREGORIAN
METHOD:PUBLISH
X-WR-CALNAME:ANCHOR VALLEY WINE
X-ORIGINAL-URL:https://www.anchorvalleywine.com
X-WR-CALDESC:Events for ANCHOR VALLEY WINE
REFRESH-INTERVAL;VALUE=DURATION:PT1H
X-Robots-Tag:noindex
X-PUBLISHED-TTL:PT1H
BEGIN:VTIMEZONE
TZID:America/Los_Angeles
BEGIN:DAYLIGHT
TZOFFSETFROM:-0800
TZOFFSETTO:-0700
TZNAME:PDT
DTSTART:20240310T100000
END:DAYLIGHT
BEGIN:STANDARD
TZOFFSETFROM:-0700
TZOFFSETTO:-0800
TZNAME:PST
DTSTART:20241103T090000
END:STANDARD
BEGIN:DAYLIGHT
TZOFFSETFROM:-0800
TZOFFSETTO:-0700
TZNAME:PDT
DTSTART:20250309T100000
END:DAYLIGHT
BEGIN:STANDARD
TZOFFSETFROM:-0700
TZOFFSETTO:-0800
TZNAME:PST
DTSTART:20251102T090000
END:STANDARD
BEGIN:DAYLIGHT
TZOFFSETFROM:-0800
TZOFFSETTO:-0700
TZNAME:PDT
DTSTART:20260308T100000
END:DAYLIGHT
BEGIN:STANDARD
TZOFFSETFROM:-0700
TZOFFSETTO:-0800
TZNAME:PST
DTSTART:20261101T090000
END:STANDARD
END:VTIMEZONE
BEGIN:VEVENT
DTSTART;TZID=America/Los_Angeles:20250612T180000
DTEND;TZID=America/Los_Angeles:20250612T200000
DTSTAMP:20260420T041939
CREATED:20250612T152457Z
LAST-MODIFIED:20250612T152712Z
UID:2041-1749751200-1749758400@www.anchorvalleywine.com
SUMMARY:Trivia Thursdays at the White House
DESCRIPTION:✨ Early 2000s Trivia Night\n📅 Thursday\, June 12 | 🕕 6–8 PM📍 The White House | Phoenix\, OR \nThink you remember your Y2K pop culture? Grab your friends and join us for a throwback night of Early 2000s Trivia at The White House! From iconic music and movies to unforgettable celebs and trends\, this night is all about the era of flip phones\, low-rise jeans\, and MySpace. \n🎉 Free to play👯‍♀️ Teams up to 6🏆 Prizes for the top team🍷 Wine\, frosé\, and snacks available for purchase⏰ Doors open at 4 PM | Trivia starts at 6 PM sharp \nNo RSVP needed — just show up and bring your A-game!
URL:https://www.anchorvalleywine.com/event/trivia-thursdays-at-the-white-house-early-2000s-edition/
LOCATION:The White House\, 138 S. Main Street\, Phoenix\, 97530\, United States
CATEGORIES:ANCHOR VALLEY Presents,AV at the White House,Local Happenings
ATTACH;FMTTYPE=image/png:https://www.anchorvalleywine.com/wp-content/uploads/2025/06/1.png
END:VEVENT
BEGIN:VEVENT
DTSTART;TZID=America/Los_Angeles:20250619T180000
DTEND;TZID=America/Los_Angeles:20250619T200000
DTSTAMP:20260420T041939
CREATED:20250612T153015Z
LAST-MODIFIED:20250612T193657Z
UID:2045-1750356000-1750363200@www.anchorvalleywine.com
SUMMARY:Sip & Paint at the White House
DESCRIPTION:🎨 Sip & Paint Night\n📅 Thursday\, June 19 | 🕕 6–8 PM📍 The White House | Phoenix\, OR \nGet creative with us at our next Sip & Paint Night — a fun\, low-pressure way to unwind and tap into your artsy side! \n🎟️ Tickets: $15/personIncludes a fun paint-by-number project and all supplies.(No wine included\, but available for purchase throughout the evening.) \n🍷 Enjoy wine\, frosé\, and light snacks while you paint🎨 No experience necessary — just come ready to relax and have fun!⏰ Doors open at 4 PM | Painting starts at 6 PM \nSpots are limited — reserve your seat today! \nTICKETS HERE
URL:https://www.anchorvalleywine.com/event/sip-paint-at-the-white-house/
LOCATION:The White House\, 138 S. Main Street\, Phoenix\, 97530\, United States
CATEGORIES:ANCHOR VALLEY Presents,AV at the White House,Local Happenings
ATTACH;FMTTYPE=image/png:https://www.anchorvalleywine.com/wp-content/uploads/2025/06/2.png
END:VEVENT
BEGIN:VEVENT
DTSTART;TZID=America/Los_Angeles:20250626T180000
DTEND;TZID=America/Los_Angeles:20250626T200000
DTSTAMP:20260420T041939
CREATED:20250612T185107Z
LAST-MODIFIED:20250612T193609Z
UID:2049-1750960800-1750968000@www.anchorvalleywine.com
SUMMARY:Wine & Cheesecake Pairing with Elly’s Eatery
DESCRIPTION:🍰 Wine & Cheesecake Pairing with Elly’s Eatery\n📅 Thursday\, June 26 | 🕕 6 PM📍 The White House | Phoenix\, OR \nWine and dessert? Say no more. Join us for a delicious evening of wine and cheesecake pairings featuring local favorite Elly’s Eatery. \n🎟️ Tickets: $15 per personIncludes tastings of 3 wines paired with 3 cheesecake bite samples. \n🍷 Additional wine & cheesecake available for purchase during the event.😋 Limited seating — treat yourself and grab your ticket now! \nTICKET HERE
URL:https://www.anchorvalleywine.com/event/wine-cheesecake-pairing-with-ellys-eatery/
LOCATION:The White House\, 138 S. Main Street\, Phoenix\, 97530\, United States
CATEGORIES:ANCHOR VALLEY Presents,AV at the White House,Food and Wine Events,Local Happenings
ATTACH;FMTTYPE=image/png:https://www.anchorvalleywine.com/wp-content/uploads/2025/06/3.png
END:VEVENT
BEGIN:VEVENT
DTSTART;TZID=America/Los_Angeles:20250628T170000
DTEND;TZID=America/Los_Angeles:20250628T190000
DTSTAMP:20260420T041939
CREATED:20250612T190848Z
LAST-MODIFIED:20250612T190849Z
UID:2055-1751130000-1751137200@www.anchorvalleywine.com
SUMMARY:LIVE MUSIC: Jared Gutridge Duo
DESCRIPTION:🎶 Live Music: Jared Gutridge Duo\n📅 Saturday\, June 28 | 🕔 5–7 PM📍 The White House | Phoenix\, OR \nKick back with a glass of wine and enjoy a summer evening of live music with the Jared Gutridge Duo out on the beautifully shady front lawn 🎵 \n🍷 Wine\, frosé\, and snacks available all evening🪑 Seating is first come\, first served – feel free to BYOChair!⏰ Open 2–8 PM | Music from 5–7 PM \nBring your friends and soak up the good vibes!
URL:https://www.anchorvalleywine.com/event/live-music-jared-gutridge-duo/
LOCATION:The White House\, 138 S. Main Street\, Phoenix\, 97530\, United States
CATEGORIES:ANCHOR VALLEY Presents,AV at the White House,Local Happenings
ATTACH;FMTTYPE=image/png:https://www.anchorvalleywine.com/wp-content/uploads/2025/06/June-Events-at-the-WH.png
END:VEVENT
BEGIN:VEVENT
DTSTART;TZID=America/Los_Angeles:20250629T140000
DTEND;TZID=America/Los_Angeles:20250629T160000
DTSTAMP:20260420T041939
CREATED:20250612T185620Z
LAST-MODIFIED:20250612T185644Z
UID:2052-1751205600-1751212800@www.anchorvalleywine.com
SUMMARY:Charcuterie Workshop with Gouda Times
DESCRIPTION:🧀 Charcuterie Workshop with Gouda Times\n📅 Sunday\, June 29 | 🕑 2–4 PM📍 The White House | Jacksonville\, OR \nJoin us for a fun and flavorful afternoon at The White House (138 S Main Street\, Phoenix\, OR) on Sunday\, June 29th from 2–4pm! Learn the art of crafting your own beautiful charcuterie board with Gouda Times while sipping on local wines in a relaxed\, hands-on setting. Perfect for a date\, friends’ outing\, or solo treat—leave with your own curated board and new skills to impress at your next gathering! \n🎟️ Tickets: $55 per personIncludes:– Charcuterie crafting instruction– All ingredients + materials to build your own personal board\n(no wine included in the ticket price) \n🍷 Wine and snacks available for purchase.🎉 Spots are limited — grab your ticket before it sells out! \nTickets here.
URL:https://www.anchorvalleywine.com/event/charcuterie-workshop-with-gouda-times/
CATEGORIES:ANCHOR VALLEY Presents,AV at the White House,Food and Wine Events,Local Happenings
ATTACH;FMTTYPE=image/png:https://www.anchorvalleywine.com/wp-content/uploads/2025/06/Bingo-Night-at-the-White-House-1.png
END:VEVENT
END:VCALENDAR