BEGIN:VCALENDAR
VERSION:2.0
PRODID:-//ANCHOR VALLEY WINE - ECPv6.15.20//NONSGML v1.0//EN
CALSCALE:GREGORIAN
METHOD:PUBLISH
X-WR-CALNAME:ANCHOR VALLEY WINE
X-ORIGINAL-URL:https://www.anchorvalleywine.com
X-WR-CALDESC:Events for ANCHOR VALLEY WINE
REFRESH-INTERVAL;VALUE=DURATION:PT1H
X-Robots-Tag:noindex
X-PUBLISHED-TTL:PT1H
BEGIN:VTIMEZONE
TZID:America/Los_Angeles
BEGIN:DAYLIGHT
TZOFFSETFROM:-0800
TZOFFSETTO:-0700
TZNAME:PDT
DTSTART:20220313T100000
END:DAYLIGHT
BEGIN:STANDARD
TZOFFSETFROM:-0700
TZOFFSETTO:-0800
TZNAME:PST
DTSTART:20221106T090000
END:STANDARD
BEGIN:DAYLIGHT
TZOFFSETFROM:-0800
TZOFFSETTO:-0700
TZNAME:PDT
DTSTART:20230312T100000
END:DAYLIGHT
BEGIN:STANDARD
TZOFFSETFROM:-0700
TZOFFSETTO:-0800
TZNAME:PST
DTSTART:20231105T090000
END:STANDARD
BEGIN:DAYLIGHT
TZOFFSETFROM:-0800
TZOFFSETTO:-0700
TZNAME:PDT
DTSTART:20240310T100000
END:DAYLIGHT
BEGIN:STANDARD
TZOFFSETFROM:-0700
TZOFFSETTO:-0800
TZNAME:PST
DTSTART:20241103T090000
END:STANDARD
END:VTIMEZONE
BEGIN:VEVENT
DTSTART;TZID=America/Los_Angeles:20230318T120000
DTEND;TZID=America/Los_Angeles:20230318T210000
DTSTAMP:20260422T020812
CREATED:20230306T221855Z
LAST-MODIFIED:20230306T221857Z
UID:1720-1679140800-1679173200@www.anchorvalleywine.com
SUMMARY:JAAMS! Jacksonville Art and Music Showcase
DESCRIPTION:Saturday\, March 18\, the Jacksonville Chamber of Commerce is bringing together some of the finest musical talent right here in downtown Jacksonville. The Jacksonville Art and Music Showcase (JAAMS) will be held from 12-9pm with 4 sets of 90 minute duos. This event spotlights eight talented individuals inside the much-loved settting of the Old City Hall on Main St. \nWe invite the residents of Jacksonville\, our beloved Rogue Valley and our community beyond to celebrate St.Patrick’s Day weekend in Jacksonville. \nIn between sets\, “shop the Shamrock” for a chance to win gift baskets sponsored by our local businesses as well as food\, wine and spirits at our fine establishments throughout town. \nTo get tickets:\nhttps://jacksonvillechamberofcommerce.ticketspice.com/jacksonville-art-and-music-showcase
URL:https://www.anchorvalleywine.com/event/jaams-jacksonville-art-and-music-showcase/
CATEGORIES:Food and Wine Events,Local Happenings
ATTACH;FMTTYPE=image/png:https://www.anchorvalleywine.com/wp-content/uploads/2023/03/JAAMS-event-flyer-7-1060x1500-1.png
END:VEVENT
END:VCALENDAR