BEGIN:VCALENDAR
VERSION:2.0
PRODID:-//ANCHOR VALLEY WINE - ECPv6.15.20//NONSGML v1.0//EN
CALSCALE:GREGORIAN
METHOD:PUBLISH
X-ORIGINAL-URL:https://www.anchorvalleywine.com
X-WR-CALDESC:Events for ANCHOR VALLEY WINE
REFRESH-INTERVAL;VALUE=DURATION:PT1H
X-Robots-Tag:noindex
X-PUBLISHED-TTL:PT1H
BEGIN:VTIMEZONE
TZID:America/Los_Angeles
BEGIN:DAYLIGHT
TZOFFSETFROM:-0800
TZOFFSETTO:-0700
TZNAME:PDT
DTSTART:20210314T100000
END:DAYLIGHT
BEGIN:STANDARD
TZOFFSETFROM:-0700
TZOFFSETTO:-0800
TZNAME:PST
DTSTART:20211107T090000
END:STANDARD
BEGIN:DAYLIGHT
TZOFFSETFROM:-0800
TZOFFSETTO:-0700
TZNAME:PDT
DTSTART:20220313T100000
END:DAYLIGHT
BEGIN:STANDARD
TZOFFSETFROM:-0700
TZOFFSETTO:-0800
TZNAME:PST
DTSTART:20221106T090000
END:STANDARD
BEGIN:DAYLIGHT
TZOFFSETFROM:-0800
TZOFFSETTO:-0700
TZNAME:PDT
DTSTART:20230312T100000
END:DAYLIGHT
BEGIN:STANDARD
TZOFFSETFROM:-0700
TZOFFSETTO:-0800
TZNAME:PST
DTSTART:20231105T090000
END:STANDARD
END:VTIMEZONE
BEGIN:VEVENT
DTSTART;TZID=America/Los_Angeles:20220806T180000
DTEND;TZID=America/Los_Angeles:20220806T200000
DTSTAMP:20260420T062808
CREATED:20220623T163507Z
LAST-MODIFIED:20220623T163508Z
UID:1607-1659808800-1659816000@www.anchorvalleywine.com
SUMMARY:AV Presents - An Evening with Rogue Rage Duo
DESCRIPTION:
URL:https://www.anchorvalleywine.com/event/av-presents-an-evening-with-rogue-rage-duo/
LOCATION:ANCHOR VALLEY Wine Bar\, 150 S. Oregon Street\, Jacksonville\, OR\, 97530\, United States
CATEGORIES:ANCHOR VALLEY Presents,Local Happenings
ATTACH;FMTTYPE=image/jpeg:https://www.anchorvalleywine.com/wp-content/uploads/2022/06/Rogue-Rage-Duo.jpg
END:VEVENT
BEGIN:VEVENT
DTSTART;TZID=America/Los_Angeles:20220812T180000
DTEND;TZID=America/Los_Angeles:20220812T200000
DTSTAMP:20260420T062808
CREATED:20210818T200739Z
LAST-MODIFIED:20220623T163723Z
UID:1472-1660327200-1660334400@www.anchorvalleywine.com
SUMMARY:AV Presents - An Evening with Connor Reese
DESCRIPTION:Spotify Artist Page: \nhttps://open.spotify.com/artist/2t1RSYKaQbmuIpxkYSCjbs?si=5xrmWzDrQ0yJf-2ERxyzow \nFacebook Artist Page: \nhttps://www.facebook.com/1ConnorReese \nWebsite: \nhttps://rogueguitarlessons.wixsite.com/connorreese
URL:https://www.anchorvalleywine.com/event/anchor-valley-presents-an-evening-with-connor-reese/
LOCATION:ANCHOR VALLEY Wine Bar\, 150 S. Oregon Street\, Jacksonville\, OR\, 97530\, United States
CATEGORIES:ANCHOR VALLEY Presents,Local Happenings
ATTACH;FMTTYPE=image/jpeg:https://www.anchorvalleywine.com/wp-content/uploads/2021/06/20210123_140220-01.jpeg
END:VEVENT
END:VCALENDAR