BEGIN:VCALENDAR
VERSION:2.0
PRODID:-//ANCHOR VALLEY WINE - ECPv6.15.20//NONSGML v1.0//EN
CALSCALE:GREGORIAN
METHOD:PUBLISH
X-ORIGINAL-URL:https://www.anchorvalleywine.com
X-WR-CALDESC:Events for ANCHOR VALLEY WINE
REFRESH-INTERVAL;VALUE=DURATION:PT1H
X-Robots-Tag:noindex
X-PUBLISHED-TTL:PT1H
BEGIN:VTIMEZONE
TZID:America/Los_Angeles
BEGIN:DAYLIGHT
TZOFFSETFROM:-0800
TZOFFSETTO:-0700
TZNAME:PDT
DTSTART:20240310T100000
END:DAYLIGHT
BEGIN:STANDARD
TZOFFSETFROM:-0700
TZOFFSETTO:-0800
TZNAME:PST
DTSTART:20241103T090000
END:STANDARD
BEGIN:DAYLIGHT
TZOFFSETFROM:-0800
TZOFFSETTO:-0700
TZNAME:PDT
DTSTART:20250309T100000
END:DAYLIGHT
BEGIN:STANDARD
TZOFFSETFROM:-0700
TZOFFSETTO:-0800
TZNAME:PST
DTSTART:20251102T090000
END:STANDARD
BEGIN:DAYLIGHT
TZOFFSETFROM:-0800
TZOFFSETTO:-0700
TZNAME:PDT
DTSTART:20260308T100000
END:DAYLIGHT
BEGIN:STANDARD
TZOFFSETFROM:-0700
TZOFFSETTO:-0800
TZNAME:PST
DTSTART:20261101T090000
END:STANDARD
END:VTIMEZONE
BEGIN:VEVENT
DTSTART;TZID=America/Los_Angeles:20250417T180000
DTEND;TZID=America/Los_Angeles:20250417T200000
DTSTAMP:20260420T052821
CREATED:20250406T235131Z
LAST-MODIFIED:20250406T235131Z
UID:2037-1744912800-1744920000@www.anchorvalleywine.com
SUMMARY:AV JVILLE: Pop Up Wine Dinner & Bingo
DESCRIPTION:🍽 Wine Dinner & Bingo at Anchor Valley\nThursday\, April 17 at 6 PM – $20/person for dinnerJacksonville\, OR | Catered by Dancing Cats \nJoin us for an intimate evening of delicious food and amazing wines at Anchor Valley’s upcoming Pop Up Wine Dinner\, featuring a thoughtfully curated menu by Dancing Cats Catering. \nEnjoy a cozy\, relaxed night with friends (or make some new ones!) as you sip and savor each course alongside your favorite Anchor Valley wines. \n🍷 Menu Highlights:• Starter: Green Salad• Main: Stuffed Chicken Breast with Ham & Swiss\, Parmesan Sauce + Roasted Potatoes• Dessert: German Chocolate Poke Cake \n📲 Reserve your seat by texting or emailing Jeff:541-261-8631 | jeffdancingcats@gmail.com \nSpace is limited — don’t wait to claim your spot at the table!
URL:https://www.anchorvalleywine.com/event/av-jville-pop-up-wine-dinner-bingo/
LOCATION:ANCHOR VALLEY Wine Bar\, 150 S. Oregon Street\, Jacksonville\, OR\, 97530\, United States
CATEGORIES:ANCHOR VALLEY Presents,Food and Wine Events,Local Happenings
ATTACH;FMTTYPE=image/png:https://www.anchorvalleywine.com/wp-content/uploads/2025/04/3.png
END:VEVENT
BEGIN:VEVENT
DTSTART;TZID=America/Los_Angeles:20250419T140000
DTEND;TZID=America/Los_Angeles:20250419T160000
DTSTAMP:20260420T052821
CREATED:20250326T183257Z
LAST-MODIFIED:20250326T183257Z
UID:2012-1745071200-1745078400@www.anchorvalleywine.com
SUMMARY:Live Music with Sunburnt Owl
DESCRIPTION:One Night Only! Come say goodbye to Josh!
URL:https://www.anchorvalleywine.com/event/live-music-with-sunburnt-owl/
LOCATION:ANCHOR VALLEY Wine Bar\, 150 S. Oregon Street\, Jacksonville\, OR\, 97530\, United States
CATEGORIES:ANCHOR VALLEY Presents,Food and Wine Events,Local Happenings
ATTACH;FMTTYPE=image/png:https://www.anchorvalleywine.com/wp-content/uploads/2025/03/Farewell-Josh-Anch.png.png
END:VEVENT
END:VCALENDAR