BEGIN:VCALENDAR
VERSION:2.0
PRODID:-//ANCHOR VALLEY WINE - ECPv6.15.20//NONSGML v1.0//EN
CALSCALE:GREGORIAN
METHOD:PUBLISH
X-WR-CALNAME:ANCHOR VALLEY WINE
X-ORIGINAL-URL:https://www.anchorvalleywine.com
X-WR-CALDESC:Events for ANCHOR VALLEY WINE
REFRESH-INTERVAL;VALUE=DURATION:PT1H
X-Robots-Tag:noindex
X-PUBLISHED-TTL:PT1H
BEGIN:VTIMEZONE
TZID:America/Los_Angeles
BEGIN:DAYLIGHT
TZOFFSETFROM:-0800
TZOFFSETTO:-0700
TZNAME:PDT
DTSTART:20230312T100000
END:DAYLIGHT
BEGIN:STANDARD
TZOFFSETFROM:-0700
TZOFFSETTO:-0800
TZNAME:PST
DTSTART:20231105T090000
END:STANDARD
BEGIN:DAYLIGHT
TZOFFSETFROM:-0800
TZOFFSETTO:-0700
TZNAME:PDT
DTSTART:20240310T100000
END:DAYLIGHT
BEGIN:STANDARD
TZOFFSETFROM:-0700
TZOFFSETTO:-0800
TZNAME:PST
DTSTART:20241103T090000
END:STANDARD
BEGIN:DAYLIGHT
TZOFFSETFROM:-0800
TZOFFSETTO:-0700
TZNAME:PDT
DTSTART:20250309T100000
END:DAYLIGHT
BEGIN:STANDARD
TZOFFSETFROM:-0700
TZOFFSETTO:-0800
TZNAME:PST
DTSTART:20251102T090000
END:STANDARD
END:VTIMEZONE
BEGIN:VEVENT
DTSTART;TZID=America/Los_Angeles:20240523T180000
DTEND;TZID=America/Los_Angeles:20240523T203000
DTSTAMP:20260421T042608
CREATED:20240505T010120Z
LAST-MODIFIED:20240505T010344Z
UID:1874-1716487200-1716496200@www.anchorvalleywine.com
SUMMARY:Watercolor & Wine @ Anchor Valley
DESCRIPTION:Join us for a fun night of watercolor painting\, great wine\, and a fun experience! \nLimited to 12 students\, so get a friend or two and act fast! \nRegister by calling:\nLauren Card\n541.702.7911 \nFollow her @watercolorandwineroguevalley on your socials! \n 
URL:https://www.anchorvalleywine.com/event/watercolor-wine-anchor-valley/
LOCATION:ANCHOR VALLEY Wine Bar\, 150 S. Oregon Street\, Jacksonville\, OR\, 97530\, United States
CATEGORIES:ANCHOR VALLEY Presents,Food and Wine Events,Local Happenings
ATTACH;FMTTYPE=image/jpeg:https://www.anchorvalleywine.com/wp-content/uploads/2024/05/Watercolor-and-Wine-Logo.jpg
END:VEVENT
END:VCALENDAR