BEGIN:VCALENDAR
VERSION:2.0
PRODID:-//ANCHOR VALLEY WINE - ECPv6.15.20//NONSGML v1.0//EN
CALSCALE:GREGORIAN
METHOD:PUBLISH
X-ORIGINAL-URL:https://www.anchorvalleywine.com
X-WR-CALDESC:Events for ANCHOR VALLEY WINE
REFRESH-INTERVAL;VALUE=DURATION:PT1H
X-Robots-Tag:noindex
X-PUBLISHED-TTL:PT1H
BEGIN:VTIMEZONE
TZID:America/Los_Angeles
BEGIN:DAYLIGHT
TZOFFSETFROM:-0800
TZOFFSETTO:-0700
TZNAME:PDT
DTSTART:20200308T100000
END:DAYLIGHT
BEGIN:STANDARD
TZOFFSETFROM:-0700
TZOFFSETTO:-0800
TZNAME:PST
DTSTART:20201101T090000
END:STANDARD
BEGIN:DAYLIGHT
TZOFFSETFROM:-0800
TZOFFSETTO:-0700
TZNAME:PDT
DTSTART:20210314T100000
END:DAYLIGHT
BEGIN:STANDARD
TZOFFSETFROM:-0700
TZOFFSETTO:-0800
TZNAME:PST
DTSTART:20211107T090000
END:STANDARD
BEGIN:DAYLIGHT
TZOFFSETFROM:-0800
TZOFFSETTO:-0700
TZNAME:PDT
DTSTART:20220313T100000
END:DAYLIGHT
BEGIN:STANDARD
TZOFFSETFROM:-0700
TZOFFSETTO:-0800
TZNAME:PST
DTSTART:20221106T090000
END:STANDARD
END:VTIMEZONE
BEGIN:VEVENT
DTSTART;VALUE=DATE:20210813
DTEND;VALUE=DATE:20210816
DTSTAMP:20260422T043428
CREATED:20210128T191511Z
LAST-MODIFIED:20210128T191512Z
UID:1275-1628812800-1629071999@www.anchorvalleywine.com
SUMMARY:Third Quarter Wine Club Release
DESCRIPTION:
URL:https://www.anchorvalleywine.com/event/third-quarter-wine-club-release/
END:VEVENT
BEGIN:VEVENT
DTSTART;TZID=America/Los_Angeles:20210813T180000
DTEND;TZID=America/Los_Angeles:20210813T200000
DTSTAMP:20260422T043428
CREATED:20210414T222328Z
LAST-MODIFIED:20210803T000824Z
UID:1362-1628877600-1628884800@www.anchorvalleywine.com
SUMMARY:AV Presents - An Evening with Emily Turner
DESCRIPTION:Emily Turner is a singer\, song writer\, and multi-instrumentalist based out of Applegate\, Oregon. Spanning across genres from Americana\, folk\, indie\, jazz\, reggae and funk\, her broad experience infuses a wide array of feels into her compositions. Her instrument of choice is upright bass\, which she performs in different projects with\, but she also performs solo using just her voice and both Baritone and Tenor ukulele. \nEmily has performed in several Oregonian projects\, including Free Creatures\, Verbs & Nouns\, The Alphadelics\, Mad Woodsy\, and Turner Moore Band. She also continually fosters other special collaborations across the Pacific Northwest\, and internationally. \nEmily was raised in Anchorage Alaska\, and though she played cornet in band while in middle school\, she did not pick up the upright bass until later in life\, while living in Ashland\, Oregon attending university for Environmental Studies. She is self taught in all regards- bass\, ukulele\, singing\, looping\, and song writing\, though she continually pushes herself to new heights through enjoying collaboration and developing her performances.
URL:https://www.anchorvalleywine.com/event/av-presents-an-evening-with-emily-turner/
LOCATION:ANCHOR VALLEY Wine Bar\, 150 S. Oregon Street\, Jacksonville\, OR\, 97530\, United States
CATEGORIES:ANCHOR VALLEY Presents
ATTACH;FMTTYPE=image/jpeg:https://www.anchorvalleywine.com/wp-content/uploads/2021/04/ET1.jpg
END:VEVENT
END:VCALENDAR